BEGIN:VCALENDAR
VERSION:2.0
PRODID:-//AISL - ECPv6.3.2//NONSGML v1.0//EN
CALSCALE:GREGORIAN
METHOD:PUBLISH
X-WR-CALNAME:AISL
X-ORIGINAL-URL:https://access-schools.com
X-WR-CALDESC:Events for AISL
REFRESH-INTERVAL;VALUE=DURATION:PT1H
X-Robots-Tag:noindex
X-PUBLISHED-TTL:PT1H
BEGIN:VTIMEZONE
TZID:UTC
BEGIN:STANDARD
TZOFFSETFROM:+0000
TZOFFSETTO:+0000
TZNAME:UTC
DTSTART:20240101T000000
END:STANDARD
END:VTIMEZONE
BEGIN:VEVENT
DTSTART;VALUE=DATE:20240329
DTEND;VALUE=DATE:20240402
DTSTAMP:20260422T051914
CREATED:20240206T025255Z
LAST-MODIFIED:20240206T025255Z
UID:1479-1711670400-1712015999@access-schools.com
SUMMARY:Important Breaks (School Activities)
DESCRIPTION:Religious – Observed Nation-wide \nGood Friday : 29th March\, 2024 \nEaster Monday: 1st April\, 2024
URL:https://access-schools.com/event/important-breaks-school-activities/
CATEGORIES:AIS Calendar
END:VEVENT
END:VCALENDAR