BEGIN:VCALENDAR
VERSION:2.0
PRODID:-//AISL - ECPv6.3.2//NONSGML v1.0//EN
CALSCALE:GREGORIAN
METHOD:PUBLISH
X-WR-CALNAME:AISL
X-ORIGINAL-URL:https://access-schools.com
X-WR-CALDESC:Events for AISL
REFRESH-INTERVAL;VALUE=DURATION:PT1H
X-Robots-Tag:noindex
X-PUBLISHED-TTL:PT1H
BEGIN:VTIMEZONE
TZID:UTC
BEGIN:STANDARD
TZOFFSETFROM:+0000
TZOFFSETTO:+0000
TZNAME:UTC
DTSTART:20240101T000000
END:STANDARD
END:VTIMEZONE
BEGIN:VEVENT
DTSTART;VALUE=DATE:20240429
DTEND;VALUE=DATE:20240430
DTSTAMP:20260420T215014
CREATED:20240206T030653Z
LAST-MODIFIED:20240206T030653Z
UID:1493-1714348800-1714435199@access-schools.com
SUMMARY:New Term Begins
DESCRIPTION:Resumption for a new kicks off
URL:https://access-schools.com/event/new-term-begins/
CATEGORIES:AIS Calendar
END:VEVENT
BEGIN:VEVENT
DTSTART;VALUE=DATE:20240426
DTEND;VALUE=DATE:20240427
DTSTAMP:20260420T215014
CREATED:20240206T030542Z
LAST-MODIFIED:20240206T030542Z
UID:1491-1714089600-1714175999@access-schools.com
SUMMARY:Vacation Ends
DESCRIPTION:Holiday and term break ends. Students are expected to prepare for resumption.
URL:https://access-schools.com/event/vacation-ends/
CATEGORIES:AIS Calendar
END:VEVENT
BEGIN:VEVENT
DTSTART;VALUE=DATE:20240410
DTEND;VALUE=DATE:20240412
DTSTAMP:20260420T215014
CREATED:20240206T030402Z
LAST-MODIFIED:20240206T030402Z
UID:1489-1712707200-1712879999@access-schools.com
SUMMARY:Important
DESCRIPTION:Religious – Observed Nation-wide \nEid-el-Fitri : 10th April\, 2024 \nEid-el-Fitri: 11th April\, 2024
URL:https://access-schools.com/event/important/
CATEGORIES:AIS Calendar
END:VEVENT
BEGIN:VEVENT
DTSTART;VALUE=DATE:20240408
DTEND;VALUE=DATE:20240409
DTSTAMP:20260420T215014
CREATED:20240206T030103Z
LAST-MODIFIED:20240206T030103Z
UID:1486-1712534400-1712620799@access-schools.com
SUMMARY:Vacation Starts
DESCRIPTION:All students are expected to be on holidays as the school closes activities for the term.
URL:https://access-schools.com/event/vacation-starts/
CATEGORIES:AIS Calendar
END:VEVENT
BEGIN:VEVENT
DTSTART;VALUE=DATE:20240405
DTEND;VALUE=DATE:20240406
DTSTAMP:20260420T215014
CREATED:20240206T025910Z
LAST-MODIFIED:20240206T025910Z
UID:1483-1712275200-1712361599@access-schools.com
SUMMARY:End of Term
DESCRIPTION:End of Term
URL:https://access-schools.com/event/end-of-term/
CATEGORIES:AIS Calendar
END:VEVENT
BEGIN:VEVENT
DTSTART;VALUE=DATE:20240329
DTEND;VALUE=DATE:20240402
DTSTAMP:20260420T215014
CREATED:20240206T025255Z
LAST-MODIFIED:20240206T025255Z
UID:1479-1711670400-1712015999@access-schools.com
SUMMARY:Important Breaks (School Activities)
DESCRIPTION:Religious – Observed Nation-wide \nGood Friday : 29th March\, 2024 \nEaster Monday: 1st April\, 2024
URL:https://access-schools.com/event/important-breaks-school-activities/
CATEGORIES:AIS Calendar
END:VEVENT
BEGIN:VEVENT
DTSTART;VALUE=DATE:20240306
DTEND;VALUE=DATE:20240307
DTSTAMP:20260420T215014
CREATED:20240206T024838Z
LAST-MODIFIED:20240206T024838Z
UID:1477-1709683200-1709769599@access-schools.com
SUMMARY:World Book Day
DESCRIPTION:
URL:https://access-schools.com/event/world-book-day/
CATEGORIES:AIS Calendar
ATTACH;FMTTYPE=image/jpeg:https://access-schools.com/wp-content/uploads/2024/01/DSC_4472-1-scaled-1.jpg
END:VEVENT
BEGIN:VEVENT
DTSTART;VALUE=DATE:20240226
DTEND;VALUE=DATE:20240227
DTSTAMP:20260420T215014
CREATED:20240206T024657Z
LAST-MODIFIED:20240206T024657Z
UID:1475-1708905600-1708991999@access-schools.com
SUMMARY:Activities resumes (After Mid-term)
DESCRIPTION:Students are expected to brace up for the remaining days left as their examinations are fast approaching. It is important students start tidying up their assignments\, revise notes from the beginning of the term in order to make good grades.
URL:https://access-schools.com/event/activities-resumes-after-mid-term/
CATEGORIES:AIS Calendar
END:VEVENT
BEGIN:VEVENT
DTSTART;VALUE=DATE:20240223
DTEND;VALUE=DATE:20240224
DTSTAMP:20260420T215014
CREATED:20240206T024120Z
LAST-MODIFIED:20240206T024120Z
UID:1473-1708646400-1708732799@access-schools.com
SUMMARY:Half of Term (Mid-term) Ends
DESCRIPTION:End of mid-term.
URL:https://access-schools.com/event/half-of-term-mid-term-ends/
CATEGORIES:AIS Calendar
END:VEVENT
BEGIN:VEVENT
DTSTART;VALUE=DATE:20240222
DTEND;VALUE=DATE:20240223
DTSTAMP:20260420T215014
CREATED:20240125T080124Z
LAST-MODIFIED:20240125T080124Z
UID:610-1708560000-1708646399@access-schools.com
SUMMARY:Half of Term  (Mid-Term) begins
DESCRIPTION:This signifies the half of term for our students in school.
URL:https://access-schools.com/event/revision-mid-term-test-starts/
CATEGORIES:AIS Calendar
END:VEVENT
BEGIN:VEVENT
DTSTART;VALUE=DATE:20240221
DTEND;VALUE=DATE:20240222
DTSTAMP:20260420T215014
CREATED:20240125T080222Z
LAST-MODIFIED:20240125T080222Z
UID:612-1708473600-1708559999@access-schools.com
SUMMARY:Cultural Day and Open Day
DESCRIPTION:Students engages in cultural activities representing and understanding various cultures across the Country. This also serves as our open day when parents can come visit their wards to attend to their requests\, check on their well-being and also relate with teachers and coaches of our institution.
URL:https://access-schools.com/event/examination-starts/
CATEGORIES:AIS Calendar
END:VEVENT
BEGIN:VEVENT
DTSTART;VALUE=DATE:20240130
DTEND;VALUE=DATE:20240131
DTSTAMP:20260420T215014
CREATED:20240125T075959Z
LAST-MODIFIED:20240125T075959Z
UID:607-1706572800-1706659199@access-schools.com
SUMMARY:Neglected Tropical Disease Day
DESCRIPTION:Neglected Tropical Disease Day
URL:https://access-schools.com/event/classes-commences/
CATEGORIES:AIS Calendar
END:VEVENT
BEGIN:VEVENT
DTSTART;VALUE=DATE:20240108
DTEND;VALUE=DATE:20240109
DTSTAMP:20260420T215014
CREATED:20240125T063835Z
LAST-MODIFIED:20240125T063835Z
UID:588-1704672000-1704758399@access-schools.com
SUMMARY:Official Resumption and Beginning of Term
DESCRIPTION:testing
URL:https://access-schools.com/event/official-resumption/
CATEGORIES:AIS Calendar
END:VEVENT
END:VCALENDAR