BEGIN:VCALENDAR
VERSION:2.0
PRODID:-//AISL - ECPv6.3.2//NONSGML v1.0//EN
CALSCALE:GREGORIAN
METHOD:PUBLISH
X-ORIGINAL-URL:https://access-schools.com
X-WR-CALDESC:Events for AISL
REFRESH-INTERVAL;VALUE=DURATION:PT1H
X-Robots-Tag:noindex
X-PUBLISHED-TTL:PT1H
BEGIN:VTIMEZONE
TZID:UTC
BEGIN:STANDARD
TZOFFSETFROM:+0000
TZOFFSETTO:+0000
TZNAME:UTC
DTSTART:20240101T000000
END:STANDARD
END:VTIMEZONE
BEGIN:VEVENT
DTSTART;VALUE=DATE:20240329
DTEND;VALUE=DATE:20240402
DTSTAMP:20260422T230534
CREATED:20240206T025255Z
LAST-MODIFIED:20240206T025255Z
UID:1479-1711670400-1712015999@access-schools.com
SUMMARY:Important Breaks (School Activities)
DESCRIPTION:Religious – Observed Nation-wide \nGood Friday : 29th March\, 2024 \nEaster Monday: 1st April\, 2024
URL:https://access-schools.com/event/important-breaks-school-activities/
CATEGORIES:AIS Calendar
END:VEVENT
BEGIN:VEVENT
DTSTART;VALUE=DATE:20240405
DTEND;VALUE=DATE:20240406
DTSTAMP:20260422T230534
CREATED:20240206T025910Z
LAST-MODIFIED:20240206T025910Z
UID:1483-1712275200-1712361599@access-schools.com
SUMMARY:End of Term
DESCRIPTION:End of Term
URL:https://access-schools.com/event/end-of-term/
CATEGORIES:AIS Calendar
END:VEVENT
BEGIN:VEVENT
DTSTART;VALUE=DATE:20240408
DTEND;VALUE=DATE:20240409
DTSTAMP:20260422T230534
CREATED:20240206T030103Z
LAST-MODIFIED:20240206T030103Z
UID:1486-1712534400-1712620799@access-schools.com
SUMMARY:Vacation Starts
DESCRIPTION:All students are expected to be on holidays as the school closes activities for the term.
URL:https://access-schools.com/event/vacation-starts/
CATEGORIES:AIS Calendar
END:VEVENT
BEGIN:VEVENT
DTSTART;VALUE=DATE:20240410
DTEND;VALUE=DATE:20240412
DTSTAMP:20260422T230534
CREATED:20240206T030402Z
LAST-MODIFIED:20240206T030402Z
UID:1489-1712707200-1712879999@access-schools.com
SUMMARY:Important
DESCRIPTION:Religious – Observed Nation-wide \nEid-el-Fitri : 10th April\, 2024 \nEid-el-Fitri: 11th April\, 2024
URL:https://access-schools.com/event/important/
CATEGORIES:AIS Calendar
END:VEVENT
BEGIN:VEVENT
DTSTART;VALUE=DATE:20240426
DTEND;VALUE=DATE:20240427
DTSTAMP:20260422T230534
CREATED:20240206T030542Z
LAST-MODIFIED:20240206T030542Z
UID:1491-1714089600-1714175999@access-schools.com
SUMMARY:Vacation Ends
DESCRIPTION:Holiday and term break ends. Students are expected to prepare for resumption.
URL:https://access-schools.com/event/vacation-ends/
CATEGORIES:AIS Calendar
END:VEVENT
BEGIN:VEVENT
DTSTART;VALUE=DATE:20240429
DTEND;VALUE=DATE:20240430
DTSTAMP:20260422T230534
CREATED:20240206T030653Z
LAST-MODIFIED:20240206T030653Z
UID:1493-1714348800-1714435199@access-schools.com
SUMMARY:New Term Begins
DESCRIPTION:Resumption for a new kicks off
URL:https://access-schools.com/event/new-term-begins/
CATEGORIES:AIS Calendar
END:VEVENT
END:VCALENDAR